BEGIN:VCALENDAR
VERSION:2.0
PRODID:-//Eesti Ps&uuml;hhoanal&uuml;&uuml;tiline Selts - ECPv6.7.0//NONSGML v1.0//EN
CALSCALE:GREGORIAN
METHOD:PUBLISH
X-WR-CALNAME:Eesti Ps&uuml;hhoanal&uuml;&uuml;tiline Selts
X-ORIGINAL-URL:https://psyhhoteraapia.ee
X-WR-CALDESC:Events for Eesti Ps&uuml;hhoanal&uuml;&uuml;tiline Selts
REFRESH-INTERVAL;VALUE=DURATION:PT1H
X-Robots-Tag:noindex
X-PUBLISHED-TTL:PT1H
BEGIN:VTIMEZONE
TZID:UTC
BEGIN:STANDARD
TZOFFSETFROM:+0000
TZOFFSETTO:+0000
TZNAME:UTC
DTSTART:20240101T000000
END:STANDARD
END:VTIMEZONE
BEGIN:VEVENT
DTSTART;TZID=UTC:20241204T190000
DTEND;TZID=UTC:20241204T210000
DTSTAMP:20260421T012801
CREATED:20240218T161824Z
LAST-MODIFIED:20241021T133240Z
UID:501-1733338800-1733346000@psyhhoteraapia.ee
SUMMARY:Eesti Psühhoanalüütilise Seltsi jõulupidu toimub 4.detsembril
DESCRIPTION:Head kolleegid! \nAeg on hakata valmistuma jõuludeks ja märkima endale kalendrisse olulisi kuupäevi. Meie jõulupidu on kavas 4.detsembril kl 19 ja parasjagu on käsil läbirääkimised erinevate restoranidega. Täpsem info peatselt.
URL:https://psyhhoteraapia.ee/uritus/eesti-psuhhoanaluutilise-seltsi-joulupidu-toimub-4-detsembril/
ATTACH;FMTTYPE=image/jpeg:https://psyhhoteraapia.ee/wp-content/uploads/2024/02/health-beauty-christmas-father_christmas-santa_claus-self_belief-believing-dre0674_low.jpg
ORGANIZER;CN="Riinu V%C3%A4strik":MAILTO:riinu.vastrik@mppk.ee
END:VEVENT
BEGIN:VEVENT
DTSTART;TZID=UTC:20241031T190000
DTEND;TZID=UTC:20241031T210000
DTSTAMP:20260421T012801
CREATED:20241018T162731Z
LAST-MODIFIED:20241019T152829Z
UID:505-1730401200-1730408400@psyhhoteraapia.ee
SUMMARY:Kinokülastus
DESCRIPTION:On ettepanek filmi vaatamiseks ja ühiseks aruteluks. \n31.oktoobril kl 19.00 linastub kinos Artis Michale Radford’i lavastatud film „1984“\, mille kohta leiate lähemat infot ja saab osta pileti:  https://www.kino.ee/event/6901/1984?theatreAreaID=1002&dt=31.10.2024 \nAruteluks saab peale filmi vaatamist koguneda Inese ja Anneli kontoris aadressil V. Reimani 8-23 (liftis vajutage vasakpoolset nr 5). \n 
URL:https://psyhhoteraapia.ee/uritus/kinokulastus/
ATTACH;FMTTYPE=image/jpeg:https://psyhhoteraapia.ee/wp-content/uploads/2024/10/Film1984.jpeg
END:VEVENT
BEGIN:VEVENT
DTSTART;TZID=UTC:20241030T180000
DTEND;TZID=UTC:20241030T200000
DTSTAMP:20260421T012801
CREATED:20241021T124024Z
LAST-MODIFIED:20241021T133201Z
UID:636-1730311200-1730318400@psyhhoteraapia.ee
SUMMARY:Loengusari "Kohtumised praktikutega" saab jätku 30.oktoobril Tallinna Ülikoolis
DESCRIPTION:Koostöös Eesti Psühholoogiaüliõpilaste Ühendusega (https://www.epsy.org.ee/uhendusest/) annavad meie seltsi liikmed seminare erinevatel\, tudengeid huvitavatel teemadel. 30.10. kl 18 räägivad Erika Saluveer ja Edith Herkel isiksusepatoloogiast üritusel nimega “Mis teeb isiksusest patoloogilise? Isiksuse struktuur ja selle eri aspektid.”
URL:https://psyhhoteraapia.ee/uritus/loengusari-kohtumised-praktikutega-saab-jatku-30-oktoobril-tallinna-ulikoolis/
LOCATION:Tallinna Ülikool\, Narva mnt 25\, Tallinn\, 10120\, Estonia
ATTACH;FMTTYPE=image/jpeg:https://psyhhoteraapia.ee/wp-content/uploads/2024/10/TLU.jpeg
END:VEVENT
END:VCALENDAR